BEGIN:VCALENDAR
PRODID:PlannerXE123
VERSION:2.0
CALSCALE:GREGORIAN
METHOD:PUBLISH
BEGIN:VEVENT
DTSTART:20180308
DTEND:20180309
DTSTAMP:20260426T003906Z
UID:(okpo.cathms.kr_58524)
CREATED:20260426T003906Z
DESCRIPTION:복음화분과 위원회\n\n<a href="http://okpo.cathms.kr/xe/calendar/58524?iCal=ics_event&document_srl=58524">원본일정</a>
LOCATION:
SEQUENCE:1
STATUS:CONFIRMED
SUMMARY:복음화분과 위원회
TRANSP:TRANSPARENT
END:VEVENT
END:VCALENDAR
