BEGIN:VCALENDAR
PRODID:PlannerXE123
VERSION:2.0
CALSCALE:GREGORIAN
METHOD:PUBLISH
BEGIN:VEVENT
DTSTART:20180325
DTEND:20180326
DTSTAMP:20260426T003708Z
UID:(okpo.cathms.kr_58538)
CREATED:20260426T003708Z
DESCRIPTION:주님 수난 성지 주일, 공동헌금2차, 본당대청소 ● 공동헌금일 (2차 헌금) ☞ 일시 : 3/24(토) ~ 25(주일) ☞ 3/23(금) 사랑의 단식재 권고 단식한 몫 ● 본당 대청소 ☞ 일 시 : 3/25(주일) 교중미사 후 ☞ 준비물 : 걸레, 수세미, 고무장갑\n\n<a href="http://okpo.cathms.kr/xe/calendar/58538?iCal=ics_event&document_srl=58538">원본일정</a>
LOCATION:
SEQUENCE:1
STATUS:CONFIRMED
SUMMARY:주님 수난 성지 주일, 공동헌금2차, 본당대청소
TRANSP:TRANSPARENT
END:VEVENT
END:VCALENDAR
