BEGIN:VCALENDAR
PRODID:PlannerXE123
VERSION:2.0
CALSCALE:GREGORIAN
METHOD:PUBLISH
BEGIN:VEVENT
DTSTART:20180503
DTEND:20180504
DTSTAMP:20260425T222118Z
UID:(okpo.cathms.kr_63236)
CREATED:20260425T222118Z
DESCRIPTION:성 필립보와 성 야고보 사도 축일\n\n<a href="http://okpo.cathms.kr/xe/calendar/63236?iCal=ics_event&document_srl=63236">원본일정</a>
LOCATION:
SEQUENCE:1
STATUS:CONFIRMED
SUMMARY:성 필립보와 성 야고보 사도 축일
TRANSP:TRANSPARENT
END:VEVENT
END:VCALENDAR
