BEGIN:VCALENDAR
PRODID:PlannerXE123
VERSION:2.0
CALSCALE:GREGORIAN
METHOD:PUBLISH
BEGIN:VEVENT
DTSTART:20180701
DTEND:20180702
DTSTAMP:20260425T120808Z
UID:(okpo.cathms.kr_64265)
CREATED:20260425T120808Z
DESCRIPTION:연중 제13주일/교황주일-교황주일2차헌금\n\n<a href="http://okpo.cathms.kr/xe/calendar/64265?iCal=ics_event&document_srl=64265">원본일정</a>
LOCATION:
SEQUENCE:1
STATUS:CONFIRMED
SUMMARY:연중 제13주일/교황주일
TRANSP:TRANSPARENT
END:VEVENT
END:VCALENDAR
