BEGIN:VCALENDAR
PRODID:PlannerXE123
VERSION:2.0
CALSCALE:GREGORIAN
METHOD:PUBLISH
BEGIN:VEVENT
DTSTART:20180916
DTEND:20180917
DTSTAMP:20260425T224540Z
UID:(okpo.cathms.kr_65697)
CREATED:20260425T224540Z
DESCRIPTION:순교자 현양대회 (2차 헌금)\n\n<a href="http://okpo.cathms.kr/xe/calendar/65697?iCal=ics_event&document_srl=65697">원본일정</a>
LOCATION:
SEQUENCE:1
STATUS:CONFIRMED
SUMMARY:순교자 현양대회 (2차 헌금)
TRANSP:TRANSPARENT
END:VEVENT
END:VCALENDAR
