BEGIN:VCALENDAR
PRODID:PlannerXE123
VERSION:2.0
CALSCALE:GREGORIAN
METHOD:PUBLISH
BEGIN:VEVENT
DTSTART:20181001
DTEND:20181002
DTSTAMP:20260425T121117Z
UID:(okpo.cathms.kr_66433)
CREATED:20260425T121117Z
DESCRIPTION:아기 예수의 성녀 데레사 동정 학자 기념일\n\n<a href="http://okpo.cathms.kr/xe/calendar/66433?iCal=ics_event&document_srl=66433">원본일정</a>
LOCATION:
SEQUENCE:1
STATUS:CONFIRMED
SUMMARY:아기 예수의 성녀 데레사 동정 학자 기념일
TRANSP:TRANSPARENT
END:VEVENT
END:VCALENDAR
