BEGIN:VCALENDAR
PRODID:PlannerXE123
VERSION:2.0
CALSCALE:GREGORIAN
METHOD:PUBLISH
BEGIN:VEVENT
DTSTART:20181106
DTEND:20181107
DTSTAMP:20260425T224901Z
UID:(okpo.cathms.kr_66801)
CREATED:20260425T224901Z
DESCRIPTION:저녁미사에 이어서\n\n<a href="http://okpo.cathms.kr/xe/calendar/66801?iCal=ics_event&document_srl=66801">원본일정</a>
LOCATION:
SEQUENCE:1
STATUS:CONFIRMED
SUMMARY:화요신앙강좌
TRANSP:TRANSPARENT
END:VEVENT
END:VCALENDAR
