BEGIN:VCALENDAR
PRODID:PlannerXE123
VERSION:2.0
CALSCALE:GREGORIAN
METHOD:PUBLISH
BEGIN:VEVENT
DTSTART:20181227
DTEND:20181228
DTSTAMP:20260426T011452Z
UID:(okpo.cathms.kr_67149)
CREATED:20260426T011452Z
DESCRIPTION:성 요한 사도 복음사가 축일\n\n<a href="http://okpo.cathms.kr/xe/calendar/67149?iCal=ics_event&document_srl=67149">원본일정</a>
LOCATION:
SEQUENCE:1
STATUS:CONFIRMED
SUMMARY:성 요한 사도 복음사가 축일
TRANSP:TRANSPARENT
END:VEVENT
END:VCALENDAR
