BEGIN:VCALENDAR
PRODID:PlannerXE123
VERSION:2.0
CALSCALE:GREGORIAN
METHOD:PUBLISH
BEGIN:VEVENT
DTSTART:20181214
DTEND:20181215
DTSTAMP:20260426T002053Z
UID:(okpo.cathms.kr_67158)
CREATED:20260426T002053Z
DESCRIPTION:십자가의 성 요한 사제 학자 기념일\n\n<a href="http://okpo.cathms.kr/xe/calendar/67158?iCal=ics_event&document_srl=67158">원본일정</a>
LOCATION:
SEQUENCE:1
STATUS:CONFIRMED
SUMMARY:십자가의 성 요한 사제 학자 기념일
TRANSP:TRANSPARENT
END:VEVENT
END:VCALENDAR
