BEGIN:VCALENDAR
PRODID:PlannerXE123
VERSION:2.0
CALSCALE:GREGORIAN
METHOD:PUBLISH
BEGIN:VEVENT
DTSTART:20190125
DTEND:20190126
DTSTAMP:20260425T200113Z
UID:(okpo.cathms.kr_67882)
CREATED:20260425T200113Z
DESCRIPTION:병자영성체\n\n<a href="http://okpo.cathms.kr/xe/calendar/67882?iCal=ics_event&document_srl=67882">원본일정</a>
LOCATION:
SEQUENCE:1
STATUS:CONFIRMED
SUMMARY:병자영성체
TRANSP:TRANSPARENT
END:VEVENT
END:VCALENDAR
