BEGIN:VCALENDAR
PRODID:PlannerXE123
VERSION:2.0
CALSCALE:GREGORIAN
METHOD:PUBLISH
BEGIN:VEVENT
DTSTART:20190202
DTEND:20190203
DTSTAMP:20260425T085152Z
UID:(okpo.cathms.kr_68448)
CREATED:20260425T085152Z
DESCRIPTION:주님 봉헌 축일 / 봉헌 생활의 날\n\n<a href="http://okpo.cathms.kr/xe/calendar/68448?iCal=ics_event&document_srl=68448">원본일정</a>
LOCATION:
SEQUENCE:1
STATUS:CONFIRMED
SUMMARY:주님 봉헌 축일 / 봉헌 생활의 날
TRANSP:TRANSPARENT
END:VEVENT
END:VCALENDAR
