BEGIN:VCALENDAR
PRODID:PlannerXE123
VERSION:2.0
CALSCALE:GREGORIAN
METHOD:PUBLISH
BEGIN:VEVENT
DTSTART:20190214
DTEND:20190215
DTSTAMP:20260425T204126Z
UID:(okpo.cathms.kr_68475)
CREATED:20260425T204126Z
DESCRIPTION:성 치릴로 수도자와 성 메토디오 주교 기념일\n\n<a href="http://okpo.cathms.kr/xe/calendar/68475?iCal=ics_event&document_srl=68475">원본일정</a>
LOCATION:
SEQUENCE:1
STATUS:CONFIRMED
SUMMARY:성 치릴로 수도자와  성 메토디오 주교 기념일
TRANSP:TRANSPARENT
END:VEVENT
END:VCALENDAR
