BEGIN:VCALENDAR
PRODID:PlannerXE123
VERSION:2.0
CALSCALE:GREGORIAN
METHOD:PUBLISH
BEGIN:VEVENT
DTSTART:20190222
DTEND:20190223
DTSTAMP:20260425T233914Z
UID:(okpo.cathms.kr_68487)
CREATED:20260425T233914Z
DESCRIPTION:은혜의 밤\n\n<a href="http://okpo.cathms.kr/xe/calendar/68487?iCal=ics_event&document_srl=68487">원본일정</a>
LOCATION:
SEQUENCE:1
STATUS:CONFIRMED
SUMMARY:은혜의 밤
TRANSP:TRANSPARENT
END:VEVENT
END:VCALENDAR
