BEGIN:VCALENDAR
PRODID:PlannerXE123
VERSION:2.0
CALSCALE:GREGORIAN
METHOD:PUBLISH
BEGIN:VEVENT
DTSTART:20190319
DTEND:20190320
DTSTAMP:20260426T000434Z
UID:(okpo.cathms.kr_68722)
CREATED:20260426T000434Z
DESCRIPTION:\n\n<a href="http://okpo.cathms.kr/xe/calendar/68722?iCal=ics_event&document_srl=68722">원본일정</a>
LOCATION:
SEQUENCE:1
STATUS:CONFIRMED
SUMMARY:견진교리 저녁미사 후
TRANSP:TRANSPARENT
END:VEVENT
END:VCALENDAR
