BEGIN:VCALENDAR
PRODID:PlannerXE123
VERSION:2.0
CALSCALE:GREGORIAN
METHOD:PUBLISH
BEGIN:VEVENT
DTSTART:20190331
DTEND:20190401
DTSTAMP:20260425T090107Z
UID:(okpo.cathms.kr_68731)
CREATED:20260425T090107Z
DESCRIPTION:견진성사 교중미사 중\n\n<a href="http://okpo.cathms.kr/xe/calendar/68731?iCal=ics_event&document_srl=68731">원본일정</a>
LOCATION:
SEQUENCE:1
STATUS:CONFIRMED
SUMMARY:견진성사 교중미사 중
TRANSP:TRANSPARENT
END:VEVENT
END:VCALENDAR
