BEGIN:VCALENDAR
PRODID:PlannerXE123
VERSION:2.0
CALSCALE:GREGORIAN
METHOD:PUBLISH
BEGIN:VEVENT
DTSTART:20190310
DTEND:20190311
DTSTAMP:20260424T005447Z
UID:(okpo.cathms.kr_68743)
CREATED:20260424T005447Z
DESCRIPTION:아치에스-레지오 행사\n\n<a href="http://okpo.cathms.kr/xe/calendar/68743?iCal=ics_event&document_srl=68743">원본일정</a>
LOCATION:
SEQUENCE:1
STATUS:CONFIRMED
SUMMARY:아치에스-레지오 행사
TRANSP:TRANSPARENT
END:VEVENT
END:VCALENDAR
