BEGIN:VCALENDAR
PRODID:PlannerXE123
VERSION:2.0
CALSCALE:GREGORIAN
METHOD:PUBLISH
BEGIN:VEVENT
DTSTART:20190405
DTEND:20190406
DTSTAMP:20260425T113847Z
UID:(okpo.cathms.kr_69205)
CREATED:20260425T113847Z
DESCRIPTION:십자가의 길 기도\n\n<a href="http://okpo.cathms.kr/xe/calendar/69205?iCal=ics_event&document_srl=69205">원본일정</a>
LOCATION:
SEQUENCE:1
STATUS:CONFIRMED
SUMMARY:십자가의 길 기도
TRANSP:TRANSPARENT
END:VEVENT
END:VCALENDAR
