BEGIN:VCALENDAR
PRODID:PlannerXE123
VERSION:2.0
CALSCALE:GREGORIAN
METHOD:PUBLISH
BEGIN:VEVENT
DTSTART:20190430
DTEND:20190501
DTSTAMP:20260426T005123Z
UID:(okpo.cathms.kr_69432)
CREATED:20260426T005123Z
DESCRIPTION:화요신앙강좌\n\n<a href="http://okpo.cathms.kr/xe/calendar/69432?iCal=ics_event&document_srl=69432">원본일정</a>
LOCATION:
SEQUENCE:1
STATUS:CONFIRMED
SUMMARY:화요신앙강좌
TRANSP:TRANSPARENT
END:VEVENT
END:VCALENDAR
