BEGIN:VCALENDAR
PRODID:PlannerXE123
VERSION:2.0
CALSCALE:GREGORIAN
METHOD:PUBLISH
BEGIN:VEVENT
DTSTART:20190604
DTEND:20190605
DTSTAMP:20260425T090823Z
UID:(okpo.cathms.kr_70174)
CREATED:20260425T090823Z
DESCRIPTION:제대회\n\n<a href="http://okpo.cathms.kr/xe/calendar/70174?iCal=ics_event&document_srl=70174">원본일정</a>
LOCATION:
SEQUENCE:1
STATUS:CONFIRMED
SUMMARY:제대회
TRANSP:TRANSPARENT
END:VEVENT
END:VCALENDAR
