BEGIN:VCALENDAR
PRODID:PlannerXE123
VERSION:2.0
CALSCALE:GREGORIAN
METHOD:PUBLISH
BEGIN:VEVENT
DTSTART:20190605
DTEND:20190606
DTSTAMP:20260425T111442Z
UID:(okpo.cathms.kr_70177)
CREATED:20260425T111442Z
DESCRIPTION:여성연합회\n\n<a href="http://okpo.cathms.kr/xe/calendar/70177?iCal=ics_event&document_srl=70177">원본일정</a>
LOCATION:
SEQUENCE:1
STATUS:CONFIRMED
SUMMARY:여성연합회
TRANSP:TRANSPARENT
END:VEVENT
END:VCALENDAR
