BEGIN:VCALENDAR
PRODID:PlannerXE123
VERSION:2.0
CALSCALE:GREGORIAN
METHOD:PUBLISH
BEGIN:VEVENT
DTSTART:20190609
DTEND:20190610
DTSTAMP:20260425T113839Z
UID:(okpo.cathms.kr_70184)
CREATED:20260425T113839Z
DESCRIPTION:그라츠자매교구의 날(2차헌금)\n\n<a href="http://okpo.cathms.kr/xe/calendar/70184?iCal=ics_event&document_srl=70184">원본일정</a>
LOCATION:
SEQUENCE:1
STATUS:CONFIRMED
SUMMARY:그라츠자매교구의 날(2차헌금)
TRANSP:TRANSPARENT
END:VEVENT
END:VCALENDAR
