BEGIN:VCALENDAR
PRODID:PlannerXE123
VERSION:2.0
CALSCALE:GREGORIAN
METHOD:PUBLISH
BEGIN:VEVENT
DTSTART:20190614
DTEND:20190615
DTSTAMP:20260425T192418Z
UID:(okpo.cathms.kr_70202)
CREATED:20260425T192418Z
DESCRIPTION:제1꾸리아 저녁미사후\n\n<a href="http://okpo.cathms.kr/xe/calendar/70202?iCal=ics_event&document_srl=70202">원본일정</a>
LOCATION:
SEQUENCE:1
STATUS:CONFIRMED
SUMMARY:제1꾸리아
TRANSP:TRANSPARENT
END:VEVENT
END:VCALENDAR
