BEGIN:VCALENDAR
PRODID:PlannerXE123
VERSION:2.0
CALSCALE:GREGORIAN
METHOD:PUBLISH
BEGIN:VEVENT
DTSTART:20190622
DTEND:20190623
DTSTAMP:20260425T222731Z
UID:(okpo.cathms.kr_70207)
CREATED:20260425T222731Z
DESCRIPTION:첫영성체자 세례식/ 첫고해\n\n<a href="http://okpo.cathms.kr/xe/calendar/70207?iCal=ics_event&document_srl=70207">원본일정</a>
LOCATION:
SEQUENCE:1
STATUS:CONFIRMED
SUMMARY:첫영성체자 세례식/ 첫고해
TRANSP:TRANSPARENT
END:VEVENT
END:VCALENDAR
