BEGIN:VCALENDAR
PRODID:PlannerXE123
VERSION:2.0
CALSCALE:GREGORIAN
METHOD:PUBLISH
BEGIN:VEVENT
DTSTART:20190714
DTEND:20190715
DTSTAMP:20260425T234104Z
UID:(okpo.cathms.kr_70423)
CREATED:20260425T234104Z
DESCRIPTION:성모회/울뜨레야 교중미사 후\n\n<a href="http://okpo.cathms.kr/xe/calendar/70423?iCal=ics_event&document_srl=70423">원본일정</a>
LOCATION:
SEQUENCE:1
STATUS:CONFIRMED
SUMMARY:성모회/울뜨레야
TRANSP:TRANSPARENT
END:VEVENT
END:VCALENDAR
