BEGIN:VCALENDAR
PRODID:PlannerXE123
VERSION:2.0
CALSCALE:GREGORIAN
METHOD:PUBLISH
BEGIN:VEVENT
DTSTART:20190721
DTEND:20190722
DTSTAMP:20260425T200456Z
UID:(okpo.cathms.kr_70432)
CREATED:20260425T200456Z
DESCRIPTION:연중 제16주일 / 농민주일\n\n<a href="http://okpo.cathms.kr/xe/calendar/70432?iCal=ics_event&document_srl=70432">원본일정</a>
LOCATION:
SEQUENCE:1
STATUS:CONFIRMED
SUMMARY:연중 제16주일 / 농민주일
TRANSP:TRANSPARENT
END:VEVENT
END:VCALENDAR
