BEGIN:VCALENDAR
PRODID:PlannerXE123
VERSION:2.0
CALSCALE:GREGORIAN
METHOD:PUBLISH
BEGIN:VEVENT
DTSTART:20190725
DTEND:20190726
DTSTAMP:20260425T232523Z
UID:(okpo.cathms.kr_70436)
CREATED:20260425T232523Z
DESCRIPTION:중고등부 여름신앙학교 - 일본 성지순례\n\n<a href="http://okpo.cathms.kr/xe/calendar/70436?iCal=ics_event&document_srl=70436">원본일정</a>
LOCATION:
SEQUENCE:1
STATUS:CONFIRMED
SUMMARY:중고등부 여름신앙학교
TRANSP:TRANSPARENT
END:VEVENT
END:VCALENDAR
