BEGIN:VCALENDAR
PRODID:PlannerXE123
VERSION:2.0
CALSCALE:GREGORIAN
METHOD:PUBLISH
BEGIN:VEVENT
DTSTART:20190705
DTEND:20190706
DTSTAMP:20260426T003244Z
UID:(okpo.cathms.kr_70439)
CREATED:20260426T003244Z
DESCRIPTION:한국 성직자들의 수호자 성 김대건 안드레아 사제 순교자 신심 미사\n\n<a href="http://okpo.cathms.kr/xe/calendar/70439?iCal=ics_event&document_srl=70439">원본일정</a>
LOCATION:
SEQUENCE:1
STATUS:CONFIRMED
SUMMARY:한국 성직자들의 수호자 성 김대건 안드레아 사제 순교자 신심 미사
TRANSP:TRANSPARENT
END:VEVENT
END:VCALENDAR
