BEGIN:VCALENDAR
PRODID:PlannerXE123
VERSION:2.0
CALSCALE:GREGORIAN
METHOD:PUBLISH
BEGIN:VEVENT
DTSTART:20190709
DTEND:20190710
DTSTAMP:20260426T002046Z
UID:(okpo.cathms.kr_70443)
CREATED:20260426T002046Z
DESCRIPTION:부산교구 손삼석 주교 수품일\n\n<a href="http://okpo.cathms.kr/xe/calendar/70443?iCal=ics_event&document_srl=70443">원본일정</a>
LOCATION:
SEQUENCE:1
STATUS:CONFIRMED
SUMMARY:부산교구 손삼석 주교 수품일
TRANSP:TRANSPARENT
END:VEVENT
END:VCALENDAR
