BEGIN:VCALENDAR
PRODID:PlannerXE123
VERSION:2.0
CALSCALE:GREGORIAN
METHOD:PUBLISH
BEGIN:VEVENT
DTSTART:20190725
DTEND:20190726
DTSTAMP:20260425T204344Z
UID:(okpo.cathms.kr_70457)
CREATED:20260425T204344Z
DESCRIPTION:두봉 주교 수품일\n\n<a href="http://okpo.cathms.kr/xe/calendar/70457?iCal=ics_event&document_srl=70457">원본일정</a>
LOCATION:
SEQUENCE:1
STATUS:CONFIRMED
SUMMARY:두봉 주교 수품일
TRANSP:TRANSPARENT
END:VEVENT
END:VCALENDAR
