BEGIN:VCALENDAR
PRODID:PlannerXE123
VERSION:2.0
CALSCALE:GREGORIAN
METHOD:PUBLISH
BEGIN:VEVENT
DTSTART:20191112
DTEND:20191113
DTSTAMP:20260425T232149Z
UID:(okpo.cathms.kr_72655)
CREATED:20260425T232149Z
DESCRIPTION:소공동체미사\n\n<a href="http://okpo.cathms.kr/xe/calendar/72655?iCal=ics_event&document_srl=72655">원본일정</a>
LOCATION:
SEQUENCE:1
STATUS:CONFIRMED
SUMMARY:소공동체미사
TRANSP:TRANSPARENT
END:VEVENT
END:VCALENDAR
