BEGIN:VCALENDAR
PRODID:PlannerXE123
VERSION:2.0
CALSCALE:GREGORIAN
METHOD:PUBLISH
BEGIN:VEVENT
DTSTART:20191111
DTEND:20191112
DTSTAMP:20260425T090131Z
UID:(okpo.cathms.kr_72677)
CREATED:20260425T090131Z
DESCRIPTION:투르의 성 마르티노 주교 기념일\n\n<a href="http://okpo.cathms.kr/xe/calendar/72677?iCal=ics_event&document_srl=72677">원본일정</a>
LOCATION:
SEQUENCE:1
STATUS:CONFIRMED
SUMMARY:투르의 성 마르티노 주교 기념일
TRANSP:TRANSPARENT
END:VEVENT
END:VCALENDAR
