BEGIN:VCALENDAR
PRODID:PlannerXE123
VERSION:2.0
CALSCALE:GREGORIAN
METHOD:PUBLISH
BEGIN:VEVENT
DTSTART:20191207
DTEND:20191208
DTSTAMP:20260425T224900Z
UID:(okpo.cathms.kr_73375)
CREATED:20260425T224900Z
DESCRIPTION:성 암브로시오 주교 학자 기념일\n\n<a href="http://okpo.cathms.kr/xe/calendar/73375?iCal=ics_event&document_srl=73375">원본일정</a>
LOCATION:
SEQUENCE:1
STATUS:CONFIRMED
SUMMARY:성 암브로시오 주교 학자 기념일
TRANSP:TRANSPARENT
END:VEVENT
END:VCALENDAR
