BEGIN:VCALENDAR
PRODID:PlannerXE123
VERSION:2.0
CALSCALE:GREGORIAN
METHOD:PUBLISH
BEGIN:VEVENT
DTSTART:20191207
DTEND:20191208
DTSTAMP:20260425T224933Z
UID:(okpo.cathms.kr_73376)
CREATED:20260425T224933Z
DESCRIPTION:대설\n\n<a href="http://okpo.cathms.kr/xe/calendar/73376?iCal=ics_event&document_srl=73376">원본일정</a>
LOCATION:
SEQUENCE:1
STATUS:CONFIRMED
SUMMARY:대설
TRANSP:TRANSPARENT
END:VEVENT
END:VCALENDAR
