BEGIN:VCALENDAR
PRODID:PlannerXE123
VERSION:2.0
CALSCALE:GREGORIAN
METHOD:PUBLISH
BEGIN:VEVENT
DTSTART:20191220
DTEND:20191221
DTSTAMP:20260425T203754Z
UID:(okpo.cathms.kr_73399)
CREATED:20260425T203754Z
DESCRIPTION:병자 영성체\n\n<a href="http://okpo.cathms.kr/xe/calendar/73399?iCal=ics_event&document_srl=73399">원본일정</a>
LOCATION:
SEQUENCE:1
STATUS:CONFIRMED
SUMMARY:병자 영성체
TRANSP:TRANSPARENT
END:VEVENT
END:VCALENDAR
