BEGIN:VCALENDAR
PRODID:PlannerXE123
VERSION:2.0
CALSCALE:GREGORIAN
METHOD:PUBLISH
BEGIN:VEVENT
DTSTART:20191201
DTEND:20191202
DTSTAMP:20260425T234058Z
UID:(okpo.cathms.kr_73475)
CREATED:20260425T234058Z
DESCRIPTION:대림저금통\n\n<a href="http://okpo.cathms.kr/xe/calendar/73475?iCal=ics_event&document_srl=73475">원본일정</a>
LOCATION:
SEQUENCE:1
STATUS:CONFIRMED
SUMMARY:대림저금통
TRANSP:TRANSPARENT
END:VEVENT
END:VCALENDAR
