BEGIN:VCALENDAR
PRODID:PlannerXE123
VERSION:2.0
CALSCALE:GREGORIAN
METHOD:PUBLISH
BEGIN:VEVENT
DTSTART:20191203
DTEND:20191204
DTSTAMP:20260426T005943Z
UID:(okpo.cathms.kr_73483)
CREATED:20260426T005943Z
DESCRIPTION:향심기도회 특강\n\n<a href="http://okpo.cathms.kr/xe/calendar/73483?iCal=ics_event&document_srl=73483">원본일정</a>
LOCATION:
SEQUENCE:1
STATUS:CONFIRMED
SUMMARY:향심기도회 특강
TRANSP:TRANSPARENT
END:VEVENT
END:VCALENDAR
