BEGIN:VCALENDAR
PRODID:PlannerXE123
VERSION:2.0
CALSCALE:GREGORIAN
METHOD:PUBLISH
BEGIN:VEVENT
DTSTART:20200117
DTEND:20200118
DTSTAMP:20260425T220519Z
UID:(okpo.cathms.kr_74332)
CREATED:20260425T220519Z
DESCRIPTION:사제 인사이동\n\n<a href="http://okpo.cathms.kr/xe/calendar/74332?iCal=ics_event&document_srl=74332">원본일정</a>
LOCATION:
SEQUENCE:1
STATUS:CONFIRMED
SUMMARY:사제 인사이동
TRANSP:TRANSPARENT
END:VEVENT
END:VCALENDAR
