BEGIN:VCALENDAR
PRODID:PlannerXE123
VERSION:2.0
CALSCALE:GREGORIAN
METHOD:PUBLISH
BEGIN:VEVENT
DTSTART:20200119
DTEND:20200120
DTSTAMP:20260424T020527Z
UID:(okpo.cathms.kr_74341)
CREATED:20260424T020527Z
DESCRIPTION:성소육성회비 접수\n\n<a href="http://okpo.cathms.kr/xe/calendar/74341?iCal=ics_event&document_srl=74341">원본일정</a>
LOCATION:
SEQUENCE:1
STATUS:CONFIRMED
SUMMARY:성소육성회비 접수
TRANSP:TRANSPARENT
END:VEVENT
END:VCALENDAR
