BEGIN:VCALENDAR
PRODID:PlannerXE123
VERSION:2.0
CALSCALE:GREGORIAN
METHOD:PUBLISH
BEGIN:VEVENT
DTSTART:20200315
DTEND:20200316
DTSTAMP:20260424T020712Z
UID:(okpo.cathms.kr_75285)
CREATED:20260424T020712Z
DESCRIPTION:사순 제3주일\n\n<a href="http://okpo.cathms.kr/xe/calendar/75285?iCal=ics_event&document_srl=75285">원본일정</a>
LOCATION:
SEQUENCE:1
STATUS:CONFIRMED
SUMMARY:사순 제3주일
TRANSP:TRANSPARENT
END:VEVENT
END:VCALENDAR
