BEGIN:VCALENDAR
PRODID:PlannerXE123
VERSION:2.0
CALSCALE:GREGORIAN
METHOD:PUBLISH
BEGIN:VEVENT
DTSTART:20200406
DTEND:20200407
DTSTAMP:20260426T003745Z
UID:(okpo.cathms.kr_75502)
CREATED:20260426T003745Z
DESCRIPTION:성주간 월요일\n\n<a href="http://okpo.cathms.kr/xe/calendar/75502?iCal=ics_event&document_srl=75502">원본일정</a>
LOCATION:
SEQUENCE:1
STATUS:CONFIRMED
SUMMARY:성주간 월요일
TRANSP:TRANSPARENT
END:VEVENT
END:VCALENDAR
