BEGIN:VCALENDAR
PRODID:PlannerXE123
VERSION:2.0
CALSCALE:GREGORIAN
METHOD:PUBLISH
BEGIN:VEVENT
DTSTART:20200415
DTEND:20200416
DTSTAMP:20260426T020921Z
UID:(okpo.cathms.kr_75507)
CREATED:20260426T020921Z
DESCRIPTION:부활 팔일 축제 수요일\n\n<a href="http://okpo.cathms.kr/xe/calendar/75507?iCal=ics_event&document_srl=75507">원본일정</a>
LOCATION:
SEQUENCE:1
STATUS:CONFIRMED
SUMMARY:부활 팔일 축제 수요일
TRANSP:TRANSPARENT
END:VEVENT
END:VCALENDAR
