BEGIN:VCALENDAR
PRODID:PlannerXE123
VERSION:2.0
CALSCALE:GREGORIAN
METHOD:PUBLISH
BEGIN:VEVENT
DTSTART:20200808
DTEND:20200809
DTSTAMP:20260426T000756Z
UID:(okpo.cathms.kr_76323)
CREATED:20260426T000756Z
DESCRIPTION:김 도밍가 수녀님 축일\n\n<a href="http://okpo.cathms.kr/xe/calendar/76323?iCal=ics_event&document_srl=76323">원본일정</a>
LOCATION:
SEQUENCE:1
STATUS:CONFIRMED
SUMMARY:김 도밍가 수녀님 축일
TRANSP:TRANSPARENT
END:VEVENT
END:VCALENDAR
