BEGIN:VCALENDAR
PRODID:PlannerXE123
VERSION:2.0
CALSCALE:GREGORIAN
METHOD:PUBLISH
BEGIN:VEVENT
DTSTART:20200802
DTEND:20200803
DTSTAMP:20260426T055321Z
UID:(okpo.cathms.kr_76329)
CREATED:20260426T055321Z
DESCRIPTION:연중 제18주일\n\n<a href="http://okpo.cathms.kr/xe/calendar/76329?iCal=ics_event&document_srl=76329">원본일정</a>
LOCATION:
SEQUENCE:1
STATUS:CONFIRMED
SUMMARY:연중 제18주일
TRANSP:TRANSPARENT
END:VEVENT
END:VCALENDAR
