BEGIN:VCALENDAR
PRODID:PlannerXE123
VERSION:2.0
CALSCALE:GREGORIAN
METHOD:PUBLISH
BEGIN:VEVENT
DTSTART:20211102
DTEND:20211103
DTSTAMP:20260425T200718Z
UID:(okpo.cathms.kr_79101)
CREATED:20260425T200718Z
DESCRIPTION:본당 합동 위령미사 19시30분\n\n<a href="http://okpo.cathms.kr/xe/calendar/79101?iCal=ics_event&document_srl=79101">원본일정</a>
LOCATION:
SEQUENCE:1
STATUS:CONFIRMED
SUMMARY:본당 합동 위령미사 19시30분
TRANSP:TRANSPARENT
END:VEVENT
END:VCALENDAR
