BEGIN:VCALENDAR
PRODID:PlannerXE123
VERSION:2.0
CALSCALE:GREGORIAN
METHOD:PUBLISH
BEGIN:VEVENT
DTSTART:20211121
DTEND:20211122
DTSTAMP:20260426T002353Z
UID:(okpo.cathms.kr_79121)
CREATED:20260426T002353Z
DESCRIPTION:그리스도 왕 대축일/성서주간(~27 금요일까지)\n\n<a href="http://okpo.cathms.kr/xe/calendar/79121?iCal=ics_event&document_srl=79121">원본일정</a>
LOCATION:
SEQUENCE:1
STATUS:CONFIRMED
SUMMARY:그리스도 왕 대축일/성서주간(~27 금요일까지)
TRANSP:TRANSPARENT
END:VEVENT
END:VCALENDAR
