BEGIN:VCALENDAR
PRODID:PlannerXE123
VERSION:2.0
CALSCALE:GREGORIAN
METHOD:PUBLISH
BEGIN:VEVENT
DTSTART:20211121
DTEND:20211122
DTSTAMP:20260425T201935Z
UID:(okpo.cathms.kr_79122)
CREATED:20260425T201935Z
DESCRIPTION:청년회 제대회 교중미사 후\n\n<a href="http://okpo.cathms.kr/xe/calendar/79122?iCal=ics_event&document_srl=79122">원본일정</a>
LOCATION:
SEQUENCE:1
STATUS:CONFIRMED
SUMMARY:청년회 제대회 교중미사 후
TRANSP:TRANSPARENT
END:VEVENT
END:VCALENDAR
